BEGIN:VCALENDAR
VERSION:2.0
PRODID:-//AmCham/ Mexico - ECPv6.9.0//NONSGML v1.0//EN
CALSCALE:GREGORIAN
METHOD:PUBLISH
X-WR-CALNAME:AmCham/ Mexico
X-ORIGINAL-URL:https://amcham.org.mx
X-WR-CALDESC:Eventos para AmCham/ Mexico
REFRESH-INTERVAL;VALUE=DURATION:PT1H
X-Robots-Tag:noindex
X-PUBLISHED-TTL:PT1H
BEGIN:VTIMEZONE
TZID:America/New_York
BEGIN:DAYLIGHT
TZOFFSETFROM:-0500
TZOFFSETTO:-0400
TZNAME:EDT
DTSTART:20260308T070000
END:DAYLIGHT
BEGIN:STANDARD
TZOFFSETFROM:-0400
TZOFFSETTO:-0500
TZNAME:EST
DTSTART:20261101T060000
END:STANDARD
END:VTIMEZONE
BEGIN:VEVENT
DTSTART;TZID=America/New_York:20260206T090000
DTEND;TZID=America/New_York:20260206T103000
DTSTAMP:20260422T084121
CREATED:20260126T194628Z
LAST-MODIFIED:20260126T195524Z
UID:352290-1770368400-1770373800@amcham.org.mx
SUMMARY:Sustentabilidad que se Puede Sentir: Nuevos Paradigmas en el Espacio de Trabajo 
DESCRIPTION:Capítulo Noreste\nSesión | 9:00 a.m. – 10:30 a.m. \nEsta sesión abordará cómo la sustentabilidad está redefiniendo los espacios de trabajo\, a partir del análisis de nuevos enfoques en diseño arquitectónico\, planeación espacial y experiencia del usuario. Se revisarán criterios de eficiencia\, bienestar y desempeño ambiental\, así como las tendencias que están configurando los modelos contemporáneos de espacios corporativos desde una perspectiva funcional y estratégica. \nSesión gratuita para socios AmCham \nRecuerda siempre completar tu registro con el correo institucional dado de alta en AmCham \n\n\n\n\nRegístrate aquí\n \n\n\n \n\n\n\n\n\n\n\n\n\n  \n  \nImportante. Da click en el botón de registro para capturar tus datos. Agregar el evento a tu calendario no concluye el proceso de registro al evento.
URL:https://amcham.org.mx/evento/sustentabilidad-que-se-puede-sentir-nuevos-paradigmas-en-el-espacio-de-trabajo/
LOCATION:Steelcase\,  Vitant. Av. Lazaro Cárdenas 2225\, San Pedro Garza García\, Nuevo León\, 66260\, Mexico
CATEGORIES:Comités,Evento presencial
ATTACH;FMTTYPE=image/jpeg:https://amcham.org.mx/wp-content/uploads/2025/01/Sustentabilidad-calendar-noreste.jpg
END:VEVENT
BEGIN:VEVENT
DTSTART;TZID=America/New_York:20260223T090000
DTEND;TZID=America/New_York:20260223T103000
DTSTAMP:20260422T084121
CREATED:20260216T210034Z
LAST-MODIFIED:20260216T210034Z
UID:352749-1771837200-1771842600@amcham.org.mx
SUMMARY:Sesión | Finanzas sostenibles: del diseño a la implementación
DESCRIPTION:Ciudad de México\nSesión | 9:00 a.m. – 10:30 a.m.\nTe esperamos en nuestra próxima sesión conjunta\, en la que contaremos con la valiosa participación de la Secretaría de Hacienda y Crédito Público\, a través de la Dirección General encargada de Foros Internacionales y Financiamiento Sostenible\, así como de la Dirección de Control y Seguimiento ASG\, quienes compartirán su experiencia sobre el tránsito de las finanzas sostenibles del diseño a la implementación. \nDurante el encuentro se abordarán temas clave como la estrategia de movilización\, taxonomía sostenible y los bonos etiquetados\, con el objetivo de reflexionar sobre las prioridades y las acciones necesarias para promover un crecimiento  económico más verde y sostenible. ¡No faltes!\nSesión en cortesía \nExclusivo para socios AmCham\nInformes: amartinez@amcham.org.mx \nRecuerda siempre completar tu registro con el correo institucional dado de alta en AmCham \n\n\n\n\nRegístrate aquí\n \n\n\n \n\n\n\n\n  \n  \nImportante. Da click en el botón de registro para capturar tus datos. Agregar el evento a tu calendario no concluye el proceso de registro al evento.
URL:https://amcham.org.mx/evento/sesion-finanzas-sostenibles-del-diseno-a-la-implementacion/
CATEGORIES:Comités,Evento presencial
ATTACH;FMTTYPE=image/jpeg:https://amcham.org.mx/wp-content/uploads/2025/01/sesionconjunta-calendar.jpg
END:VEVENT
BEGIN:VEVENT
DTSTART;TZID=America/New_York:20260226T120000
DTEND;TZID=America/New_York:20260226T130000
DTSTAMP:20260422T084121
CREATED:20260217T214124Z
LAST-MODIFIED:20260217T214124Z
UID:352769-1772107200-1772110800@amcham.org.mx
SUMMARY:Sesión: Política de nidos de agua
DESCRIPTION:Capítulo Guadalajara\nSesión | 0:00 a.m. – 0:00 a.m. \n¡Regístrate en la próxima sesión del Comité de Sustentabilidad! \nEstablecer las bases de colaboración entre el sector privado y el Gobierno de Jalisco para fortalecer la seguridad hídrica en zonas vulnerables\, integrando a los socios en un modelo de abastecimiento sustentable y de alto impacto social. \nSesión en cortesía \nExclusivo para socios AmCham\nInformes: mmedina@amcham.org.mx \nRecuerda siempre completar tu registro con el correo institucional dado de alta en AmCham \n\n\n\n\nRegístrate aquí\n \n\n\n \n\n\n\n\n  \n  \nImportante. Da click en el botón de registro para capturar tus datos. Agregar el evento a tu calendario no concluye el proceso de registro al evento.
URL:https://amcham.org.mx/evento/sesion-politica-de-nidos-de-agua/
CATEGORIES:Comités,Evento presencial
ATTACH;FMTTYPE=image/jpeg:https://amcham.org.mx/wp-content/uploads/2025/01/Sustentabilidad-calendar-gdl.jpg
END:VEVENT
END:VCALENDAR