BEGIN:VCALENDAR
VERSION:2.0
PRODID:-//AmCham/ Mexico - ECPv6.9.0//NONSGML v1.0//EN
CALSCALE:GREGORIAN
METHOD:PUBLISH
X-ORIGINAL-URL:https://amcham.org.mx
X-WR-CALDESC:Eventos para AmCham/ Mexico
REFRESH-INTERVAL;VALUE=DURATION:PT1H
X-Robots-Tag:noindex
X-PUBLISHED-TTL:PT1H
BEGIN:VTIMEZONE
TZID:America/Denver
BEGIN:DAYLIGHT
TZOFFSETFROM:-0700
TZOFFSETTO:-0600
TZNAME:MDT
DTSTART:20260308T090000
END:DAYLIGHT
BEGIN:STANDARD
TZOFFSETFROM:-0600
TZOFFSETTO:-0700
TZNAME:MST
DTSTART:20261101T080000
END:STANDARD
END:VTIMEZONE
BEGIN:VEVENT
DTSTART;TZID=America/Denver:20260507T110000
DTEND;TZID=America/Denver:20260507T123000
DTSTAMP:20260421T193539
CREATED:20260420T174123Z
LAST-MODIFIED:20260420T175013Z
UID:353820-1778151600-1778157000@amcham.org.mx
SUMMARY:Sesión: Coordinación de Protocolos Fitosanitarios y Estrategias de Facilitación Comercial México–Estados Unidos.
DESCRIPTION:Noroeste\nSesión Virtual | 11:00 a.m. – 12:30 p.m. (HORA SONORA) \nAbordaremos de manera integral los desafíos y oportunidades asociados a los protocolos fitosanitarios y la facilitación del comercio reconociéndolos como ejes estratégicos para la protección de la sanidad agroalimentaria\, con la participación de un experto de USDA APHIS\, institución líder a nivel internacional en sanidad vegetal y regulación fitosanitaria. \nExclusivo para socios AmCham\nInformes: agutierrez@amcham.org.mx \nRecuerda siempre completar tu registro con el correo institucional dado de alta en AmCham \n\n\n\n\nRegístrate aquí\n \n\n\n \n\n\n\n\n  \n  \nImportante. Da click en el botón de registro para capturar tus datos. Agregar el evento a tu calendario no concluye el proceso de registro al evento.
URL:https://amcham.org.mx/evento/sesion-coordinacion-de-protocolos-fitosanitarios-y-estrategias-de-facilitacion-comercial-mexico-estados-unidos/
ATTACH;FMTTYPE=image/jpeg:https://amcham.org.mx/wp-content/uploads/2025/01/Agroindustria-calendar-noro.jpg
END:VEVENT
END:VCALENDAR