BEGIN:VCALENDAR
VERSION:2.0
PRODID:-//AmCham/ Mexico - ECPv6.9.0//NONSGML v1.0//EN
CALSCALE:GREGORIAN
METHOD:PUBLISH
X-WR-CALNAME:AmCham/ Mexico
X-ORIGINAL-URL:https://amcham.org.mx
X-WR-CALDESC:Eventos para AmCham/ Mexico
REFRESH-INTERVAL;VALUE=DURATION:PT1H
X-Robots-Tag:noindex
X-PUBLISHED-TTL:PT1H
BEGIN:VTIMEZONE
TZID:America/New_York
BEGIN:DAYLIGHT
TZOFFSETFROM:-0500
TZOFFSETTO:-0400
TZNAME:EDT
DTSTART:20260308T070000
END:DAYLIGHT
BEGIN:STANDARD
TZOFFSETFROM:-0400
TZOFFSETTO:-0500
TZNAME:EST
DTSTART:20261101T060000
END:STANDARD
END:VTIMEZONE
BEGIN:VEVENT
DTSTART;TZID=America/New_York:20260127T080000
DTEND;TZID=America/New_York:20260127T103000
DTSTAMP:20260419T113546
CREATED:20260119T223250Z
LAST-MODIFIED:20260119T223250Z
UID:352077-1769500800-1769509800@amcham.org.mx
SUMMARY:Sesión: El caso económico de la diversidad: por qué la inclusión es una ventaja competitiva
DESCRIPTION:Ciudad de México\nSesión | 8:00 a.m. – 10:30 a.m.\nTe esperamos en la primera sesión del año\, donde hablaremos de por qué la diversidad y la inclusión son una ventaja competitiva real para las empresas y no una moda pasajera. A través de una conversación estratégica y basada en evidencia\, exploraremos cómo la inclusión impulsa la innovación\, fortalece la toma de decisiones y genera valor económico\, así como el intercambio de mejores prácticas para integrarla de manera efectiva dentro de las organizaciones y enfrentar con mayor solidez los retos del entorno actual. \nSesión en cortesía \nExclusivo para socios AmCham\nInformes: csainz@amcham.org.mx \nRecuerda siempre completar tu registro con el correo institucional dado de alta en AmCham \n\n\n\n\nRegístrate aquí\n \n\n\n \n\n\n\n\n  \n  \nImportante. Da click en el botón de registro para capturar tus datos. Agregar el evento a tu calendario no concluye el proceso de registro al evento.
URL:https://amcham.org.mx/evento/sesion-el-caso-economico-de-la-diversidad-por-que-la-inclusion-es-una-ventaja-competitiva/
CATEGORIES:Comités,Evento presencial
ATTACH;FMTTYPE=image/jpeg:https://amcham.org.mx/wp-content/uploads/2025/01/Diversidad-calendar-cdmx.jpg
END:VEVENT
END:VCALENDAR