BEGIN:VCALENDAR
VERSION:2.0
PRODID:-//AmCham/ Mexico - ECPv6.9.0//NONSGML v1.0//EN
CALSCALE:GREGORIAN
METHOD:PUBLISH
X-ORIGINAL-URL:https://amcham.org.mx
X-WR-CALDESC:Eventos para AmCham/ Mexico
REFRESH-INTERVAL;VALUE=DURATION:PT1H
X-Robots-Tag:noindex
X-PUBLISHED-TTL:PT1H
BEGIN:VTIMEZONE
TZID:America/New_York
BEGIN:DAYLIGHT
TZOFFSETFROM:-0500
TZOFFSETTO:-0400
TZNAME:EDT
DTSTART:20250309T070000
END:DAYLIGHT
BEGIN:STANDARD
TZOFFSETFROM:-0400
TZOFFSETTO:-0500
TZNAME:EST
DTSTART:20251102T060000
END:STANDARD
END:VTIMEZONE
BEGIN:VEVENT
DTSTART;TZID=America/New_York:20251107T083000
DTEND;TZID=America/New_York:20251107T100000
DTSTAMP:20260420T105025
CREATED:20251105T164558Z
LAST-MODIFIED:20251105T174347Z
UID:351304-1762504200-1762509600@amcham.org.mx
SUMMARY:Reformas Fiscales 2026
DESCRIPTION:Capítulo Guadalajara\nSesión | 8:30 a.m. – 10:00 a.m. \n¡Acompáñanos en la próxima sesión del Comité de Asuntos Fiscales! \nBrindaremos un panorama claro y actualizado sobre los cambios fiscales propuestos\, así como su posible impacto en las operaciones y estrategias de negocio. \nEsta sesión será un espacio de diálogo e intercambio de ideas para anticipar retos\, identificar oportunidades y tomar decisiones informadas en materia fiscal. \nCosto: 650 I.V.A. incluido \nExclusivo para socios AmCham\nInformes: mmedina@amcham.org.mx \nRecuerda siempre completar tu registro con el correo institucional dado de alta en AmCham \n\n\n\n\nRegístrate aquí\n \n\n\n \n\n\n\n\n  \n  \nImportante. Da click en el botón de registro para capturar tus datos. Agregar el evento a tu calendario no concluye el proceso de registro al evento.
URL:https://amcham.org.mx/evento/reformasfiscales2026/
CATEGORIES:Comités,Evento presencial
ATTACH;FMTTYPE=image/jpeg:https://amcham.org.mx/wp-content/uploads/2025/01/AsuntosFiscales-calendar-gdl.jpg
END:VEVENT
END:VCALENDAR