BEGIN:VCALENDAR
VERSION:2.0
PRODID:-//AmCham/ Mexico - ECPv6.9.0//NONSGML v1.0//EN
CALSCALE:GREGORIAN
METHOD:PUBLISH
X-WR-CALNAME:AmCham/ Mexico
X-ORIGINAL-URL:https://amcham.org.mx
X-WR-CALDESC:Eventos para AmCham/ Mexico
REFRESH-INTERVAL;VALUE=DURATION:PT1H
X-Robots-Tag:noindex
X-PUBLISHED-TTL:PT1H
BEGIN:VTIMEZONE
TZID:America/Mexico_City
BEGIN:STANDARD
TZOFFSETFROM:-0600
TZOFFSETTO:-0600
TZNAME:CST
DTSTART:20250101T000000
END:STANDARD
TZID:America/New_York
BEGIN:DAYLIGHT
TZOFFSETFROM:-0500
TZOFFSETTO:-0400
TZNAME:EDT
DTSTART:20250309T070000
END:DAYLIGHT
BEGIN:STANDARD
TZOFFSETFROM:-0400
TZOFFSETTO:-0500
TZNAME:EST
DTSTART:20251102T060000
END:STANDARD
END:VTIMEZONE
BEGIN:VEVENT
DTSTART;TZID=America/Mexico_City:20251008T110000
DTEND;TZID=America/Mexico_City:20251008T123000
DTSTAMP:20260420T104416
CREATED:20251002T171715Z
LAST-MODIFIED:20251002T171715Z
UID:350748-1759921200-1759926600@amcham.org.mx
SUMMARY:Sesión: Meeting with OFAC's Associate Director for Compliance and Enforcement
DESCRIPTION:Ciudad de México\nSesión | 11:00 a.m. – 12:30 a.m.\nAcompáñanos a una reunión con la Oficina de Control de Activos Extranjeros (OFAC)\, un encuentro de alto nivel para profundizar en los lineamientos de cumplimiento en materia de sanciones internacionales\, comprender de primera mano las prioridades regulatorias de la autoridad y resolver dudas específicas de los distintos sectores representados. \nEl encuentro se llevará a cabo en formato de mesa redonda\, bajo el principio de Chatham House Rules\, a fin de propiciar un intercambio abierto\, franco y constructivo. ¡Te esperamos! \nSesión gratuita para socios AmCham\nInformes: garana@amcham.org.mx
URL:https://amcham.org.mx/evento/sesion-meeting-with-ofacs-associate-director-for-compliance-and-enforcement/
CATEGORIES:Comités,Evento presencial
ATTACH;FMTTYPE=image/jpeg:https://amcham.org.mx/wp-content/uploads/2025/01/sesionconjunta-calendar.jpg
END:VEVENT
BEGIN:VEVENT
DTSTART;TZID=America/New_York:20251023T190000
DTEND;TZID=America/New_York:20251023T210000
DTSTAMP:20260420T104416
CREATED:20251014T175016Z
LAST-MODIFIED:20251014T175443Z
UID:350876-1761246000-1761253200@amcham.org.mx
SUMMARY:Cóctel Noche de Comités Noreste
DESCRIPTION:Capítulo Noreste\nSesión | 7:00 p.m. – 9:00 p.m.\nTe invitamos a participar en este encuentro especial donde cada comité de AmCham Noreste contará con un espacio para presentar su agenda de trabajo y compartir las oportunidades de participación disponibles para los socios. Será una excelente oportunidad para conocer de cerca las iniciativas que impulsan nuestros comités\, descubrir cómo involucrarte de manera activa y fortalecer la colaboración dentro de nuestra comunidad empresarial. Además tendremos un cocktail de networking que te ayudará a crear y fortalecer nuevos vínculos.\nSesión en cortesía \nExclusivo para socios AmCham\nInformes: mvillarreal@amcham.org.mx \nRecuerda siempre completar tu registro con el correo institucional dado de alta en AmCham \n\n\n\n\nRegístrate aquí\n \n\n\n \n\n\n\n\n  \n  \nImportante. Da click en el botón de registro para capturar tus datos. Agregar el evento a tu calendario no concluye el proceso de registro al evento.
URL:https://amcham.org.mx/evento/coctel-noche-de-comites-noreste/
CATEGORIES:Comités,Evento presencial,Networking
ATTACH;FMTTYPE=image/jpeg:https://amcham.org.mx/wp-content/uploads/2025/01/amcham-connect-calendar2.jpg
END:VEVENT
END:VCALENDAR