BEGIN:VCALENDAR
VERSION:2.0
PRODID:-//AmCham/ Mexico - ECPv6.9.0//NONSGML v1.0//EN
CALSCALE:GREGORIAN
METHOD:PUBLISH
X-WR-CALNAME:AmCham/ Mexico
X-ORIGINAL-URL:https://amcham.org.mx
X-WR-CALDESC:Eventos para AmCham/ Mexico
REFRESH-INTERVAL;VALUE=DURATION:PT1H
X-Robots-Tag:noindex
X-PUBLISHED-TTL:PT1H
BEGIN:VTIMEZONE
TZID:America/New_York
BEGIN:DAYLIGHT
TZOFFSETFROM:-0500
TZOFFSETTO:-0400
TZNAME:EDT
DTSTART:20260308T070000
END:DAYLIGHT
BEGIN:STANDARD
TZOFFSETFROM:-0400
TZOFFSETTO:-0500
TZNAME:EST
DTSTART:20261101T060000
END:STANDARD
END:VTIMEZONE
BEGIN:VEVENT
DTSTART;TZID=America/New_York:20260511T060000
DTEND;TZID=America/New_York:20260511T170000
DTSTAMP:20260419T104745
CREATED:20260114T174048Z
LAST-MODIFIED:20260415T212206Z
UID:351999-1778479200-1778518800@amcham.org.mx
SUMMARY:Torneo y Clínica de Golf AmCham
DESCRIPTION:Ciudad de México\nEl Torneo de Golf AmCham es un evento dirigido a nuestros socios\, cuyo objetivo es fortalecer las relaciones institucionales y promover el networking en un entorno deportivo. \nA través de esta actividad\, los participantes contarán con un espacio de convivencia que fomenta la vinculación\, el intercambio de ideas y el fortalecimiento de la comunidad binacional. \nClub Campestre de la Ciudad de México | Calz. de Tlalpan 1978\, Country Club Churubusco\, Coyoacán\, 04210 Ciudad de México\, CDMX. \nCuotas de recuperación:\nSocios AmCham\nPase individual: $8\,010.00\nPase foursome: $28\,420.00 \nCarrito de Golf\nPrecio carrito de golf: $2\,146.00 \nClínica de Golf\nPrecio individual clínica: $3\,445.00 \nPrecios con I.V.A. incluido \n*Programa sujeto a cambios \nEvento exclusivo para socios AmCham | Informes eventos@amcham.org.mx \n\n\n\n\nRegistro Torneo\n \n\n\n \n\n\n\n\n\nPatrocina este evento \n\n\n \n\n\n\n\n  \n  \n\n\n\n\nRegistro Clínica\n \n\n\n \n\n\n\n\n  \n  \n\n\n\n\nRegistro Carrito de Golf\n \n\n\n \n\n\n\n\n  \n  \nRecuerda siempre completar tu registro con el correo institucional dado de alta en AmCham \nAgregar el evento a tu calendario no concluye el proceso de registro al evento.
URL:https://amcham.org.mx/evento/torneo-y-clinica-de-golf-amcham/
CATEGORIES:Evento patrocinable,Evento presencial,Institucionales,Networking
ATTACH;FMTTYPE=image/jpeg:https://amcham.org.mx/wp-content/uploads/2025/01/Golf-calendar.jpg
END:VEVENT
END:VCALENDAR