BEGIN:VCALENDAR
VERSION:2.0
PRODID:-//AmCham/ Mexico - ECPv6.9.0//NONSGML v1.0//EN
CALSCALE:GREGORIAN
METHOD:PUBLISH
X-WR-CALNAME:AmCham/ Mexico
X-ORIGINAL-URL:https://amcham.org.mx
X-WR-CALDESC:Eventos para AmCham/ Mexico
REFRESH-INTERVAL;VALUE=DURATION:PT1H
X-Robots-Tag:noindex
X-PUBLISHED-TTL:PT1H
BEGIN:VTIMEZONE
TZID:America/New_York
BEGIN:DAYLIGHT
TZOFFSETFROM:-0500
TZOFFSETTO:-0400
TZNAME:EDT
DTSTART:20260308T070000
END:DAYLIGHT
BEGIN:STANDARD
TZOFFSETFROM:-0400
TZOFFSETTO:-0500
TZNAME:EST
DTSTART:20261101T060000
END:STANDARD
END:VTIMEZONE
BEGIN:VEVENT
DTSTART;TZID=America/New_York:20260422T073000
DTEND;TZID=America/New_York:20260422T103000
DTSTAMP:20260422T012119
CREATED:20260114T171639Z
LAST-MODIFIED:20260420T155433Z
UID:351992-1776843000-1776853800@amcham.org.mx
SUMMARY:Foro | Servicios Financieros
DESCRIPTION:Ciudad de México\nSould Out\nEl Foro de Servicios Financieros analizará cómo el sistema financiero puede impulsar la inversión\, acelerar la inclusión financiera y profundizar la digitalización en México\, contribuyendo a una mayor productividad\, resiliencia y crecimiento en el nuevo entorno económico global. \nAndaz Mexico City Condesa\nBallroom 2\nAguascalientes 158\, Hipódromo Condesa\, Cuauhtémoc\, 06100\, CDMX. \nCuotas de recuperación:\nSocios AmCham\nPase ejecutivo: $986\nPase grupal (3 ejecutivos): $2\,610 \nNo Socios\nPase ejecutivo: $1\,740\nPase grupal (3 ejecutivos): $4\,640 \nPrecios I.V.A. incluido \nCódigo de vestimenta: Formal de negocios \n*Programa sujeto a cambios \nInformes | eventos@amcham.org.mx \n\n\n\n\nPatrocina este evento \n\n\n \n\n\n\n\n  \n  \n  \nAgregar el evento a tu calendario no concluye el proceso de registro al evento.
URL:https://amcham.org.mx/evento/foro-servicios-financieros/
LOCATION:Nuevo León
CATEGORIES:Evento patrocinable,Evento presencial,Foro
ATTACH;FMTTYPE=image/jpeg:https://amcham.org.mx/wp-content/uploads/2025/01/Foro-calendar.jpg
END:VEVENT
BEGIN:VEVENT
DTSTART;TZID=America/New_York:20260422T083000
DTEND;TZID=America/New_York:20260422T100000
DTSTAMP:20260422T012119
CREATED:20260409T171815Z
LAST-MODIFIED:20260409T172327Z
UID:353638-1776846600-1776852000@amcham.org.mx
SUMMARY:Energía en Jalisco 2026
DESCRIPTION:Capítulo Guadalajara\nSesión | 8:30 a.m. – 10:00 a.m. \n¡Acompáñanos en la sesión del Comité de Legalidad! \nEn esta sesión abordaremos el panorama energético en Jalisco\, cambios y retos del sector para la creación de estrategias que\nbrinden alternativas ante la alta demanda en la región. \nCosto: 700 I.V.A. ya aplicado \nExclusivo para socios AmCham\nInformes: mmedina@amcham.org.mx \nRecuerda siempre completar tu registro con el correo institucional dado de alta en AmCham \n\n\n\n\nRegístrate aquí\n \n\n\n \n\n\n\n\n  \n  \nImportante. Da click en el botón de registro para capturar tus datos. Agregar el evento a tu calendario no concluye el proceso de registro al evento.
URL:https://amcham.org.mx/evento/energia-en-jalisco-2026/
LOCATION:Nuevo León
CATEGORIES:Comités,Evento presencial
ATTACH;FMTTYPE=image/jpeg:https://amcham.org.mx/wp-content/uploads/2025/01/Legalidad-calendar-gdl.jpg
END:VEVENT
BEGIN:VEVENT
DTSTART;TZID=America/New_York:20260422T093000
DTEND;TZID=America/New_York:20260422T103000
DTSTAMP:20260422T012119
CREATED:20260407T164625Z
LAST-MODIFIED:20260413T190047Z
UID:353609-1776850200-1776853800@amcham.org.mx
SUMMARY:Economía Circular en México: Competitividad Empresarial y Marco Regulatorio
DESCRIPTION:Capítulo Noreste\nSesión | 9:30 a.m. – 10:30 a.m.\nEn un entorno marcado por mayores exigencias en sostenibilidad\, presiones regulatorias y transformación de los mercados\, la economía circular se consolida como un eje clave para la competitividad empresarial. Esta sesión ofrecerá una visión estratégica sobre cómo la circularidad puede traducirse en eficiencia operativa\, innovación en modelos de negocio y generación de valor a lo largo de la cadena productiva. \nDesde una perspectiva práctica\, se abordarán los principales retos y oportunidades para las empresas en la transición hacia esquemas más eficientes en el uso de recursos\, incluyendo temas como rediseño de procesos\, gestión de residuos\, trazabilidad y adopción de criterios ESG en la toma de decisiones. Asimismo\, se explorarán rutas concretas para avanzar hacia modelos productivos más alineados con las nuevas dinámicas del mercado y las tendencias globales. \nSesión gratuita para socios AmCham \nRecuerda siempre completar tu registro con el correo institucional dado de alta en AmCham \n\n\n\n\nRegístrate aquí\n \n\n\n \n\n\n\n\n\n\n\n  \n  \nImportante. Da click en el botón de registro para capturar tus datos. Agregar el evento a tu calendario no concluye el proceso de registro al evento.
URL:https://amcham.org.mx/evento/economia-circular-de-la-sustentabilidad-a-la-competitividad/
LOCATION:Nuevo León
CATEGORIES:Comités,Evento virtual
ATTACH;FMTTYPE=image/jpeg:https://amcham.org.mx/wp-content/uploads/2025/01/Sustentabilidad-calendar-noreste.jpg
END:VEVENT
END:VCALENDAR