BEGIN:VCALENDAR
VERSION:2.0
PRODID:-//AmCham/ Mexico - ECPv6.9.0//NONSGML v1.0//EN
CALSCALE:GREGORIAN
METHOD:PUBLISH
X-WR-CALNAME:AmCham/ Mexico
X-ORIGINAL-URL:https://amcham.org.mx
X-WR-CALDESC:Eventos para AmCham/ Mexico
REFRESH-INTERVAL;VALUE=DURATION:PT1H
X-Robots-Tag:noindex
X-PUBLISHED-TTL:PT1H
BEGIN:VTIMEZONE
TZID:America/New_York
BEGIN:DAYLIGHT
TZOFFSETFROM:-0500
TZOFFSETTO:-0400
TZNAME:EDT
DTSTART:20260308T070000
END:DAYLIGHT
BEGIN:STANDARD
TZOFFSETFROM:-0400
TZOFFSETTO:-0500
TZNAME:EST
DTSTART:20261101T060000
END:STANDARD
END:VTIMEZONE
BEGIN:VEVENT
DTSTART;TZID=America/New_York:20260420T160000
DTEND;TZID=America/New_York:20260420T180000
DTSTAMP:20260420T011805
CREATED:20260409T180918Z
LAST-MODIFIED:20260409T193216Z
UID:353640-1776700800-1776708000@amcham.org.mx
SUMMARY:Management 3.0
DESCRIPTION:Capítulo Guadalajara\nSesión | 4:00 p.m. – 6:00 p.m. \n¡Acompáñanos en la próxima sesión del Comité de Capital Humano! \nEn esta sesión abordaremos el Management 3.0 como enfoque de liderazgo ágil que busca empoderar equipos\, fomentar la\ncolaboración y mejorar constantemente los sistemas de resultados. \nSesión en cortesía \nExclusivo para socios AmCham\nInformes: mmedina@amcham.org.mx \nRecuerda siempre completar tu registro con el correo institucional dado de alta en AmCham \n\n\n\n\nRegístrate aquí\n \n\n\n \n\n\n\n\n  \nCapitalHumano-calendar-gdl.jpg \nImportante. Da click en el botón de registro para capturar tus datos. Agregar el evento a tu calendario no concluye el proceso de registro al evento.
URL:https://amcham.org.mx/evento/management3-0/
CATEGORIES:Comités,Evento presencial
ATTACH;FMTTYPE=image/jpeg:https://amcham.org.mx/wp-content/uploads/2025/01/CapitalHumano-calendar-gdl.jpg
END:VEVENT
END:VCALENDAR